BEGIN:VCALENDAR
PRODID:-//eluceo/ical//2.0/EN
VERSION:2.0
CALSCALE:GREGORIAN
BEGIN:VEVENT
UID:d2185c1e977a17dcc0e91dda6dd74d99
DTSTAMP:20260419T190925Z
SUMMARY:Dinner of Miracles
DESCRIPTION:UJA Federation of Greater Toronto\nJewish Toronto Calendar\nhtt
 ps://jewishtoronto.com/calendar/dinner-of-miracles\n\nTickets intended for
  those in their 20s and 30s\n\n 
DTSTART;TZID=America/Toronto:20151210T180000
DTEND;TZID=America/Toronto:20151210T213000
END:VEVENT
END:VCALENDAR
