BEGIN:VCALENDAR
PRODID:-//eluceo/ical//2.0/EN
VERSION:2.0
CALSCALE:GREGORIAN
BEGIN:VEVENT
UID:643b17ce78f108c7e4164ac51064a6e1
DTSTAMP:20260421T084659Z
SUMMARY:Dinner Lecture with DR. SHAWNA DOLANSKY
DESCRIPTION:UJA Federation of Greater Toronto\nJewish Toronto Calendar\nhtt
 ps://jewishtoronto.com/calendar/dinner-lecture-with-dr-shawna-dolansky\n\n
 Dinner Lecture with DR. SHAWNA DOLANSKY \nScroll and Spade: Where the Bibl
 e and Archeology Do-and Do Not- Intersect\n\nDr. Shawna Dolansky is adjunc
 t Research Professor\, College of the Humanities & Religion Program\, Ca
 rleton University\, author of 2 books and scholarly articles as well as
  a contributor to The Women’s Torah Commentary\, Encyclopedia Judaica
 \, The Huffington Post.\n\nAdvanced registration is required\n\nBrought 
 to you by the Adult Education Committee
DTSTART;TZID=America/Toronto:20150322T180000
DTEND;TZID=America/Toronto:20150322T203000
END:VEVENT
END:VCALENDAR
