BEGIN:VCALENDAR
PRODID:-//eluceo/ical//2.0/EN
VERSION:2.0
CALSCALE:GREGORIAN
BEGIN:VEVENT
UID:e1836af3f2ca95840aa18b97b35b2d92
DTSTAMP:20260419T175856Z
SUMMARY:Dinner for Nefesh Dovid for Young Men with Hearing Loss
DESCRIPTION:UJA Federation of Greater Toronto\nJewish Toronto Calendar\nhtt
 ps://jewishtoronto.com/calendar/dinner-for-nefesh-dovid-for-young-men-with
 -hearing-loss\n\nGuest speaker Mr. Malcolm Honlein\n\nHosted by Esty and J
 oseph Edell and Goldie and Shmueli Hauer\n\nLocation TBD
DTSTART;TZID=America/Toronto:20141124T180000
DTEND;TZID=America/Toronto:20141124T200000
END:VEVENT
END:VCALENDAR
