BEGIN:VCALENDAR
PRODID:-//eluceo/ical//2.0/EN
VERSION:2.0
CALSCALE:GREGORIAN
BEGIN:VEVENT
UID:f0b1562c696a7fa59655eac6457057c6
DTSTAMP:20260424T144209Z
SUMMARY:Diller Teen Fellows Open House
DESCRIPTION:UJA Federation of Greater Toronto\nJewish Toronto Calendar\nhtt
 ps://jewishtoronto.com/calendar/diller-teen-fellows-open-house-1615573145\
 n\nWe invite all potential Diller Teen Fellows (teens currently in grade 9
  or 10) and their families to join us for an information session on the Di
 ller Teen Fellowship. We will provide an overview of the program and selec
 tion process\, and answer questions allowing you the opportunity to learn 
 more about the program before applying to Cohort 10.  The program runs Sep
 tember 2021-September 2022.  To register please copy and paste this link: 
 https://helenandsanforddillersupportingfoundation.formsta...
DTSTART;TZID=America/Toronto:20210506T193000
DTEND;TZID=America/Toronto:20210506T203000
END:VEVENT
END:VCALENDAR
