BEGIN:VCALENDAR
PRODID:-//eluceo/ical//2.0/EN
VERSION:2.0
CALSCALE:GREGORIAN
BEGIN:VEVENT
UID:03932824b07eb6fa721b056ece14defd
DTSTAMP:20260420T023436Z
SUMMARY:Diller ICF Info Session
DESCRIPTION:UJA Federation of Greater Toronto\nJewish Toronto Calendar\nhtt
 ps://jewishtoronto.com/calendar/diller-icf-info-session\n\nVirtual Webinar
 \n\nDetails to follow.
DTSTART;TZID=America/Toronto:20211128T100000
DTEND;TZID=America/Toronto:20211128T110000
END:VEVENT
END:VCALENDAR
