BEGIN:VCALENDAR
PRODID:-//eluceo/ical//2.0/EN
VERSION:2.0
CALSCALE:GREGORIAN
BEGIN:VEVENT
UID:cdebe5cd89df5f21e1cd55bcaaf9e0b1
DTSTAMP:20260421T181221Z
SUMMARY:Dear Rabbi\, Why Can't I Marry Her? A dialogue on intermarriage.
DESCRIPTION:UJA Federation of Greater Toronto\nJewish Toronto Calendar\nhtt
 ps://jewishtoronto.com/calendar/dear-rabbi-why-cant-i-marry-her-a-dialogue
 -on-intermarriage-1548427908\n\nFeaturing Rabbi Eliezer Shemtov of Montevi
 deo\, Uruguay. A book signing will follow the lecture. The Rabbi will be a
 vailable for private consultation on Sunday\, March 3.\nReservations\, 905
 -763-4040 - chabad@chabadflamingo.com\n$10 advance- $15 at door
DTSTART;TZID=America/Toronto:20190302T200000
DTEND;TZID=America/Toronto:20190302T220000
END:VEVENT
END:VCALENDAR
