BEGIN:VCALENDAR
PRODID:-//eluceo/ical//2.0/EN
VERSION:2.0
CALSCALE:GREGORIAN
BEGIN:VEVENT
UID:b4c46c5ed4a26aa88bd9373938fcd946
DTSTAMP:20260419T151307Z
SUMMARY:Dealing with Antisemitism at the TDSB
DESCRIPTION:UJA Federation of Greater Toronto\nJewish Toronto Calendar\nhtt
 ps://jewishtoronto.com/calendar/dealing-with-antisemitism-at-the-tdsb-1753
 202979\n\nRepresenting the TDSB's Jewish Heritage Committee\,  Chair Shari
  Schwartz-Maltz and longtime member Shelley Laskin  will offer a frank and
  necessary discussion on how the TDSB is handling the antisemitism situati
 on in its schools.
DTSTART;TZID=America/Toronto:20250805T190000
DTEND;TZID=America/Toronto:20250805T210000
END:VEVENT
END:VCALENDAR
