BEGIN:VCALENDAR
PRODID:-//eluceo/ical//2.0/EN
VERSION:2.0
CALSCALE:GREGORIAN
BEGIN:VEVENT
UID:baf1e7b5987f1d8f08b173a31b334000
DTSTAMP:20260419T215810Z
SUMMARY:Dead End - A Live Theatrical Performance
DESCRIPTION:UJA Federation of Greater Toronto\nJewish Toronto Calendar\nhtt
 ps://jewishtoronto.com/calendar/dead-end---a-live-theatrical-performance-1
 446141676\n\nJake\, a successful New York lawyer finds himself in a NYC pa
 rk at midnight searching for his daughter\, Sara\, who ran away from home 
 after an argument with her parents. While at the park\, he meets Aaron\, a
  troubled teen from a religious family who is hanging out with his friends
 . While each one sees the other as a nuisance\, gradually Jake realizes th
 at Aaron can help him understand his daughter and Aaron finds someone he c
 an open up to\, because he is a stranger.
DTSTART;TZID=America/Toronto:20151114T200000
DTEND;TZID=America/Toronto:20151114T210000
END:VEVENT
END:VCALENDAR
