BEGIN:VCALENDAR
PRODID:-//eluceo/ical//2.0/EN
VERSION:2.0
CALSCALE:GREGORIAN
BEGIN:VEVENT
UID:89349c5557a9a4f579e2a82d00392e84
DTSTAMP:20260420T084412Z
SUMMARY:Daytime Speaker Series: Rabbi Michael Skobac
DESCRIPTION:UJA Federation of Greater Toronto\nJewish Toronto Calendar\nhtt
 ps://jewishtoronto.com/calendar/daytime-speaker-series-rabbi-michael-skoba
 c-1487862145\n\nJoin us on April 25 for the third of the series. Rabbi Mic
 hael Skobac is the Director of Education and Counselling\, Jews for Judais
 m. Bring your lunch for noon\, program begins at 12:30 PM THZ Members: $3 
 / Community Members: $6.00
DTSTART;TZID=America/Toronto:20170425T120000
DTEND;TZID=America/Toronto:20170425T143000
END:VEVENT
END:VCALENDAR
