BEGIN:VCALENDAR
PRODID:-//eluceo/ical//2.0/EN
VERSION:2.0
CALSCALE:GREGORIAN
BEGIN:VEVENT
UID:6b992a3376d308de29d59293a24841d7
DTSTAMP:20260421T165910Z
SUMMARY:Day Trips in Jewish History with Hana Werner
DESCRIPTION:UJA Federation of Greater Toronto\nJewish Toronto Calendar\nhtt
 ps://jewishtoronto.com/calendar/day-trips-in-jewish-history-with-hana-wern
 er-1555617260\n\nSession Three: Rebecca and Isaac—A Love Story Par Excel
 lence\n\nEducator and lecturer Hana Werner continues her spring series of 
 the "Day Trips" series on the theme "Sexuality in the Bible". Refreshments
  will be served. RSVPs appreciated.\n\nUpcoming sessions: May 27 and June 
 3
DTSTART;TZID=America/Toronto:20190513T140000
DTEND;TZID=America/Toronto:20190513T153000
END:VEVENT
END:VCALENDAR
