BEGIN:VCALENDAR
PRODID:-//eluceo/ical//2.0/EN
VERSION:2.0
CALSCALE:GREGORIAN
BEGIN:VEVENT
UID:71c9d225fa322682c67eb366d898fb2e
DTSTAMP:20260422T181723Z
SUMMARY:Beth Tzedec - Day Trips in Jewish History with Hana Werner
DESCRIPTION:UJA Federation of Greater Toronto\nJewish Toronto Calendar\nhtt
 ps://jewishtoronto.com/calendar/day-trips-in-jewish-history-with-hana-wern
 er-1475790443\n\nBack by popular demand\, educator and lecturer Hana Werne
 r presents snapshots of the historical Jewish stories and fascinating Bibl
 ical characters.\n\nFall Series:\n"To be or not to be is not the question.
  The question is how to be." - AJ Heschel\n\nSpring Series:\nSignificant b
 iblical vignettes. Reading between the lines—layers of meaning.\n\n\n\nG
 enerously sponsored in memory of Cantor Joseph Cooper z"l
DTSTART;TZID=America/Toronto:20161019T140000
DTEND;TZID=America/Toronto:20161019T153000
END:VEVENT
END:VCALENDAR
