BEGIN:VCALENDAR
PRODID:-//eluceo/ical//2.0/EN
VERSION:2.0
CALSCALE:GREGORIAN
BEGIN:VEVENT
UID:3a22a3606cbbdbf455e75bd514bc3c6e
DTSTAMP:20260419T165559Z
SUMMARY:Day Trips in Jewish History with Hana Werner
DESCRIPTION:UJA Federation of Greater Toronto\nJewish Toronto Calendar\nhtt
 ps://jewishtoronto.com/calendar/day-trips-in-jewish-history-with-hana-wern
 er-1455204115\n\nWednesday\, May 11 Beth Tzedec Congregation Presents Day 
 Trips in Jewish History with Hana Werner. Part 2: The Game Changers. Saul\
 , David and Samuel: The Triangle of Power\, Struggle and Strife. 1:30 pm. 
 Dessert. $10 RSVP 416-781-3511.
DTSTART;TZID=America/Toronto:20160511T133000
DTEND;TZID=America/Toronto:20160511T160000
END:VEVENT
END:VCALENDAR
