BEGIN:VCALENDAR
PRODID:-//eluceo/ical//2.0/EN
VERSION:2.0
CALSCALE:GREGORIAN
BEGIN:VEVENT
UID:d9ea8863663078f8c22d774418d8606c
DTSTAMP:20260423T172115Z
SUMMARY:David Serero to perform at the Mimouna Gala in Toronto
DESCRIPTION:UJA Federation of Greater Toronto\nJewish Toronto Calendar\nhtt
 ps://jewishtoronto.com/calendar/david-serero-to-perform-at-the-mimouna-gal
 a-in-toronto\n\nDAVID SERERO to perform at the Mimouna Gala in Toronto in 
 the presence of Canadian Ministers\, Diplomats and Ambassadors from severa
 l countries\n\nOn April 19th 2017 at 7pm\, the baritone David Serero will 
 perform for the first time in Toronto\, at the Kehila Centre\, for the Mim
 ouna Gala in the presence of important members of the Canadian Government\
 , Diplomats and Ambassadors.\n\nThis performance will be the Canadian debu
 t of baritone star David Serero.\n\nThe evening will also feature the Anda
 ...
DTSTART;TZID=America/Toronto:20170419T190000
DTEND;TZID=America/Toronto:20170419T220000
END:VEVENT
END:VCALENDAR
