BEGIN:VCALENDAR
PRODID:-//eluceo/ical//2.0/EN
VERSION:2.0
CALSCALE:GREGORIAN
BEGIN:VEVENT
UID:172fb3b64e0188dd884ea682d0f68623
DTSTAMP:20260420T074434Z
SUMMARY:David Anisman Dinner Draw
DESCRIPTION:UJA Federation of Greater Toronto\nJewish Toronto Calendar\nhtt
 ps://jewishtoronto.com/calendar/david-anisman-dinner-draw\n\nHonouring Dav
 id Anisman on his 100th birthday Reverse Draw\n\nGrand Prize $5\,000.00 |
   Additional draws for $100 made throughout the evening.\n\n$125 per pers
 on.  \nIncludes:\n\n\nDinner and Entertainment.\n1 Draw Ticket\n1 Drink T
 icket\n\n\n\nIndividual Raffle Tickets $50 each.\n\nPlease RSVP to the Syn
 agogue office at 416.633.3838.\nGreetings and Sponsorships available.\n 
DTSTART;TZID=America/Toronto:20150507T183000
DTEND;TZID=America/Toronto:20150507T213000
END:VEVENT
END:VCALENDAR
