BEGIN:VCALENDAR
PRODID:-//eluceo/ical//2.0/EN
VERSION:2.0
CALSCALE:GREGORIAN
BEGIN:VEVENT
UID:2ca1cc5f61e130d325c8b7ece3eb28b7
DTSTAMP:20260424T113220Z
SUMMARY:Dash for Kids
DESCRIPTION:UJA Federation of Greater Toronto\nJewish Toronto Calendar\nhtt
 ps://jewishtoronto.com/calendar/dash-for-kids\n\nDetails to follow. 
DTSTART;TZID=America/Toronto:20220904T090000
DTEND;TZID=America/Toronto:20220904T140000
END:VEVENT
END:VCALENDAR
