BEGIN:VCALENDAR
PRODID:-//eluceo/ical//2.0/EN
VERSION:2.0
CALSCALE:GREGORIAN
BEGIN:VEVENT
UID:5b3fff07e507ee94b62ce6b71149259f
DTSTAMP:20260422T170821Z
SUMMARY:Dare to Dream Cars & Cocktails
DESCRIPTION:UJA Federation of Greater Toronto\nJewish Toronto Calendar\nhtt
 ps://jewishtoronto.com/calendar/dare-to-dream-cars--cocktails-1681830960\n
 \nJoin us for an exclusive fireside chat with Maxine Granovsky Gluskin\, s
 howcasing iconic cars and shoes!
DTSTART;TZID=America/Toronto:20230517T173000
DTEND;TZID=America/Toronto:20230517T203000
END:VEVENT
END:VCALENDAR
