BEGIN:VCALENDAR
PRODID:-//eluceo/ical//2.0/EN
VERSION:2.0
CALSCALE:GREGORIAN
BEGIN:VEVENT
UID:b592c267c3be61d9e664e2df58dcb3ae
DTSTAMP:20260426T011200Z
SUMMARY:Darchei Noam - The Caribbean Jewish Experience - Part III
DESCRIPTION:UJA Federation of Greater Toronto\nJewish Toronto Calendar\nhtt
 ps://jewishtoronto.com/calendar/darchei-noam-the-caribbean-jewish-experien
 ce--part-iii\n\nTHE JEWISH DIVERSITY COMMITTEE PRESENTS the last in a SERI
 ES\nTHE CARIBBEAN JEWISH EXPERIENCE\nPART III\n376 Years of Jewish Life in
  Suriname\n\nJacob Steinberg\, will introduce us to the fascinating histor
 y of the oldest continuously existing Jewish community in the Americas\, t
 he community of Suriname in South America. Our story will commence with th
 e arrival of the first settlers in the old capital Torarica (1630s)\, then
  move on to the establishment and later decline of the Jodensavanne\, an .
 ..
DTSTART;TZID=America/Toronto:20160117T191500
DTEND;TZID=America/Toronto:20160117T223000
END:VEVENT
END:VCALENDAR
