BEGIN:VCALENDAR
PRODID:-//eluceo/ical//2.0/EN
VERSION:2.0
CALSCALE:GREGORIAN
BEGIN:VEVENT
UID:e1d8877da7c233671a95dd3a7ebd94ba
DTSTAMP:20260419T221135Z
SUMMARY:Daniella Silver - Variations Cookbook Launch Party
DESCRIPTION:UJA Federation of Greater Toronto\nJewish Toronto Calendar\nhtt
 ps://jewishtoronto.com/calendar/daniella-silver---variations-cookbook-laun
 ch-party-1566344862\n\nYou are invited to join Daniella Silver at the laun
 ch of her new cookbook “Variations”\nYou will have an opportunity to t
 aste recipes from the cookbook and purchase at a reduced rate your special
  signed copy
DTSTART;TZID=America/Toronto:20190918T193000
DTEND;TZID=America/Toronto:20190918T193000
END:VEVENT
END:VCALENDAR
