BEGIN:VCALENDAR
PRODID:-//eluceo/ical//2.0/EN
VERSION:2.0
CALSCALE:GREGORIAN
BEGIN:VEVENT
UID:a95aa353b1fe40e3df67852e75d326e8
DTSTAMP:20260424T033120Z
SUMMARY:Daniel C. Kurtzer
DESCRIPTION:UJA Federation of Greater Toronto\nJewish Toronto Calendar\nhtt
 ps://jewishtoronto.com/calendar/daniel-c-kurtzer-1568818374\n\nIsrael and 
 the Palestinians: Peace is Desirable\, but Is It Achievable?
DTSTART;TZID=America/Toronto:20191110T193000
DTEND;TZID=America/Toronto:20191110T213000
END:VEVENT
END:VCALENDAR
