BEGIN:VCALENDAR
PRODID:-//eluceo/ical//2.0/EN
VERSION:2.0
CALSCALE:GREGORIAN
BEGIN:VEVENT
UID:45a36a320e6b305da87bd6a5ea80e665
DTSTAMP:20260419T231334Z
SUMMARY:DANI - IRON CHEF - JDAIM
DESCRIPTION:UJA Federation of Greater Toronto\nJewish Toronto Calendar\nhtt
 ps://jewishtoronto.com/calendar/dani---iron-chef---jdaim-1450660032\n\nDAN
 I Centre: Cooking with Iron Chef Orly\; Monday February 8\; 6:30 pm-8:00 p
 m Integrated adult class\; Create a Simple Fun Meal (TBD)\; Come with own 
 support\; $10.00 \; Preregistration necessary 905 889 3264 ext 227 Please 
 come with own support if needed.
DTSTART;TZID=America/Toronto:20160208T183000
DTEND;TZID=America/Toronto:20160208T200000
END:VEVENT
END:VCALENDAR
