BEGIN:VCALENDAR
PRODID:-//eluceo/ical//2.0/EN
VERSION:2.0
CALSCALE:GREGORIAN
BEGIN:VEVENT
UID:312063455e2b7cae8c7f70c23b164a1a
DTSTAMP:20260419T181250Z
SUMMARY:Danforth Jewish Circle Wacky Western Purim Party
DESCRIPTION:UJA Federation of Greater Toronto\nJewish Toronto Calendar\nhtt
 ps://jewishtoronto.com/calendar/danforth-jewish-circle-wacky-western-purim
 -party-1551984438\n\nThe East End Goes West: Wacky Western Purim Party\n\n
 Thursday\, March 21 | 5:30 – 8 PM\, Adult After-party: 8 to late!\n\nPWY
 C at the door | $5 for DJC members ($8 for non-members) suggested donation
 \n\nCash bar\n\nIt’s Pooorhyme time and everythin’s agone sideways par
 dner! The East End’s goin’ west… wild west! Dust off your cowboy boo
 ts and get ready to swing your pardner round n’ round. Ain’t nobody se
 en a showdown like this since Mordechai and Haman thought Shushan weren’
 t ...
DTSTART;TZID=America/Toronto:20190321T173000
DTEND;TZID=America/Toronto:20190321T220000
END:VEVENT
END:VCALENDAR
