BEGIN:VCALENDAR
PRODID:-//eluceo/ical//2.0/EN
VERSION:2.0
CALSCALE:GREGORIAN
BEGIN:VEVENT
UID:0bc0ae153220b3184bd27a504fb6cc25
DTSTAMP:20260421T113023Z
SUMMARY:Current Events and World Happenings at Beth Tikvah Synagogue
DESCRIPTION:UJA Federation of Greater Toronto\nJewish Toronto Calendar\nhtt
 ps://jewishtoronto.com/calendar/current-events-and-world-happenings-at-bet
 h-tikvah-synagogue-1457544496\n\nPlease join us for six interactive sessio
 ns on Wednesday mornings. Everyone is welcome. Sessions will be moderated 
 by Murray Armel\, Q.C. LLB. B.COM.\n\nMurray brings a keen interest and kn
 owledge of current events\, history\, and politics. He has served as a mod
 erator at the Life Institute for Continuing Education at Ryerson Universit
 y.
DTSTART;TZID=America/Toronto:20160525T100000
DTEND;TZID=America/Toronto:20160525T113000
END:VEVENT
END:VCALENDAR
