BEGIN:VCALENDAR
PRODID:-//eluceo/ical//2.0/EN
VERSION:2.0
CALSCALE:GREGORIAN
BEGIN:VEVENT
UID:7fd25534baf96327a3be0be4d3ed29db
DTSTAMP:20260421T182255Z
SUMMARY:Culinary Discoveries
DESCRIPTION:UJA Federation of Greater Toronto\nJewish Toronto Calendar\nhtt
 ps://jewishtoronto.com/calendar/culinary-discoveries-1575049733\n\nPlease 
 modify the listing that you already have
DTSTART;TZID=America/Toronto:20200130T190000
DTEND;TZID=America/Toronto:20200130T220000
END:VEVENT
END:VCALENDAR
