BEGIN:VCALENDAR
PRODID:-//eluceo/ical//2.0/EN
VERSION:2.0
CALSCALE:GREGORIAN
BEGIN:VEVENT
UID:a5361a02af958570a6a896a3a5fbd265
DTSTAMP:20260422T012540Z
SUMMARY:Crossroads: Tradition Re-Invisioned\, featuring the best in Jewish 
 A Capella
DESCRIPTION:UJA Federation of Greater Toronto\nJewish Toronto Calendar\nhtt
 ps://jewishtoronto.com/calendar/crossroads-tradition-re-invisioned-featuri
 ng-the-best-in-jewish-a-capella-1511294035\n\nJoin us for an evening of th
 e best in Jewish a capella featuring our very own Ruach Singers and SIX13 
 from NYC! Also featuring guest soloist Amanda Levine and of course our ver
 y own Cantor Eric Moses!\n\nFor more information contact the synagogue off
 ice at 416.783.6103.
DTSTART;TZID=America/Toronto:20180529T193000
DTEND;TZID=America/Toronto:20180529T230000
END:VEVENT
END:VCALENDAR
