BEGIN:VCALENDAR
PRODID:-//eluceo/ical//2.0/EN
VERSION:2.0
CALSCALE:GREGORIAN
BEGIN:VEVENT
UID:d7f24028038fa9aaacc9a1ce10889d01
DTSTAMP:20260420T183639Z
SUMMARY:Cringe Worthy 2.0
DESCRIPTION:UJA Federation of Greater Toronto\nJewish Toronto Calendar\nhtt
 ps://jewishtoronto.com/calendar/cringe-worthy-20-1452709918\n\nJoin us for
  a trip down memory lane as people share their most embarrassing teen stor
 ies\, live on stage.
DTSTART;TZID=America/Toronto:20160406T190000
DTEND;TZID=America/Toronto:20160406T220000
END:VEVENT
END:VCALENDAR
