BEGIN:VCALENDAR
PRODID:-//eluceo/ical//2.0/EN
VERSION:2.0
CALSCALE:GREGORIAN
BEGIN:VEVENT
UID:b09326c3045e4b4a1e553e9f95e3f854
DTSTAMP:20260424T143741Z
SUMMARY:Cringe Worthy
DESCRIPTION:UJA Federation of Greater Toronto\nJewish Toronto Calendar\nhtt
 ps://jewishtoronto.com/calendar/cringe-worthy-1575387738\n\nJF&CS Emerging
  Leaders Event
DTSTART;TZID=America/Toronto:20210722T190000
DTEND;TZID=America/Toronto:20210722T213000
END:VEVENT
END:VCALENDAR
