BEGIN:VCALENDAR
PRODID:-//eluceo/ical//2.0/EN
VERSION:2.0
CALSCALE:GREGORIAN
BEGIN:VEVENT
UID:f4d6ef4b2d69d3486042cc50f37a3158
DTSTAMP:20260425T121541Z
SUMMARY:JF&CS - Cringe Worthy
DESCRIPTION:UJA Federation of Greater Toronto\nJewish Toronto Calendar\nhtt
 ps://jewishtoronto.com/calendar/cringe-worthy-1478796768\n\nJoin us for a 
 trip down memory lane as people share their most embarrassing teen stories
 \, live on stage.
DTSTART;TZID=America/Toronto:20170525T190000
DTEND;TZID=America/Toronto:20170525T223000
END:VEVENT
END:VCALENDAR
