BEGIN:VCALENDAR
PRODID:-//eluceo/ical//2.0/EN
VERSION:2.0
CALSCALE:GREGORIAN
BEGIN:VEVENT
UID:3488fcff94f6d2cef94801d913c2e135
DTSTAMP:20260421T050834Z
SUMMARY:Creatives in Conversation: A Pride Month Event
DESCRIPTION:UJA Federation of Greater Toronto\nJewish Toronto Calendar\nhtt
 ps://jewishtoronto.com/calendar/creatives-in-conversation-a-pride-month-ev
 ent-1621949099\n\nBeth Tzedec artist-in-residence Aviva Chernick hosts thi
 s virtual roundtable with an outstanding group of Queer Jewish Canadian Cr
 eatives\, people working in the arts\, each accomplished in their own form
 . Join this celebration in conversation of the intersection between Jewish
 \, Queer and Creative identities.\n\nIn keeping with Public Health recomme
 ndations\, this program will be presented via Zoom. Pre-registration is re
 quired to access the Zoom link information. To pre-register\, visit...
DTSTART;TZID=America/Toronto:20210622T193000
DTEND;TZID=America/Toronto:20210622T203000
END:VEVENT
END:VCALENDAR
