BEGIN:VCALENDAR
PRODID:-//eluceo/ical//2.0/EN
VERSION:2.0
CALSCALE:GREGORIAN
BEGIN:VEVENT
UID:5b9787ed7426ed1947584005455a0f1d
DTSTAMP:20260420T085939Z
SUMMARY:Crash of the Heavens - An Evening with Author Douglas Century
DESCRIPTION:UJA Federation of Greater Toronto\nJewish Toronto Calendar\nhtt
 ps://jewishtoronto.com/calendar/crash-of-the-heavens---an-evening-with-aut
 hor-douglas-century-1761324665\n\nJoin us for this international book laun
 ch with acclaimed author Douglas Century — a powerful and revealing even
 ing as he presents a new portrait of Hannah Senesh\, the heroic poet\, par
 atrooper\, and resistance fighter remembered as a beacon of hope during th
 e Holocaust.\n\nDrawing from newly uncovered materials — including never
 -before-seen photographs\, previously unknown poetry\, and original song l
 yrics — Century will introduce a side of Senesh that few have known. Thr
 ough meticulous re...
DTSTART;TZID=America/Toronto:20251119T190000
DTEND;TZID=America/Toronto:20251119T213000
END:VEVENT
END:VCALENDAR
