BEGIN:VCALENDAR
PRODID:-//eluceo/ical//2.0/EN
VERSION:2.0
CALSCALE:GREGORIAN
BEGIN:VEVENT
UID:d52dab9b3121574e824277ccedf3def9
DTSTAMP:20260422T093853Z
SUMMARY:Crash Course in Tax & Financial Planning
DESCRIPTION:UJA Federation of Greater Toronto\nJewish Toronto Calendar\nhtt
 ps://jewishtoronto.com/calendar/crash-course-in-tax-financial-planning\n\n
 UJA's Young Accountants Presents: A 1 hour crash course in tax and financi
 al planning.
DTSTART;TZID=America/Toronto:20150226T190000
DTEND;TZID=America/Toronto:20150226T200000
END:VEVENT
END:VCALENDAR
