BEGIN:VCALENDAR
PRODID:-//eluceo/ical//2.0/EN
VERSION:2.0
CALSCALE:GREGORIAN
BEGIN:VEVENT
UID:e78e496df0adc110e7d12ccc2cb79786
DTSTAMP:20260420T015053Z
SUMMARY:COVID-19 Coping Continuum for Parents of School-Aged Children
DESCRIPTION:UJA Federation of Greater Toronto\nJewish Toronto Calendar\nhtt
 ps://jewishtoronto.com/calendar/covid-19-coping-continuum-for-parents-of-s
 chool-aged-children-1620335888\n\nJoin us on Zoom for an informative sessi
 on on coping with the rollercoaster of COVID-19 lockdowns and restrictions
  while living with school-aged children. We will break into small\, facili
 tated breakout sessions led by Leanne Matlow\, founder of the Mental Healt
 h Day Empowerment Initiative. Registration required.
DTSTART;TZID=America/Toronto:20210519T193000
DTEND;TZID=America/Toronto:20210519T203000
END:VEVENT
END:VCALENDAR
