BEGIN:VCALENDAR
PRODID:-//eluceo/ical//2.0/EN
VERSION:2.0
CALSCALE:GREGORIAN
BEGIN:VEVENT
UID:4b16b8fab3683550da18824839745452
DTSTAMP:20260424T012942Z
SUMMARY:Costume Party
DESCRIPTION:UJA Federation of Greater Toronto\nJewish Toronto Calendar\nhtt
 ps://jewishtoronto.com/calendar/costume-party-1762370840\n\n2025 Canadian 
 Jewish Playwriting Competition Winner \nCostume Party\nBy Ori Black \n
 Directed by Jordan Pettle\nPrinz is finally ready to introduce his new gir
 lfriend to his best friends. What better event than a silly costume party 
 pre-game? But when an old friend shows up with an unnerving surprise\, Pri
 nz is forced to reconcile with the uncomfortable truths he’s tried so ha
 rd to ignore. Featuring: Ori Black\, Brittany Kay\, Luke Kimball\, Izzi 
 Nagel and Dan Reale. The 2025 competition i...
DTSTART;TZID=America/Toronto:20251130T190000
DTEND;TZID=America/Toronto:20251130T210000
END:VEVENT
END:VCALENDAR
