BEGIN:VCALENDAR
PRODID:-//eluceo/ical//2.0/EN
VERSION:2.0
CALSCALE:GREGORIAN
BEGIN:VEVENT
UID:70ba5021b0a5369f93b88f684a173921
DTSTAMP:20260420T085323Z
SUMMARY:Cooking up Lunch – with Tony Loschiavo of L-eat Catering
DESCRIPTION:UJA Federation of Greater Toronto\nJewish Toronto Calendar\nhtt
 ps://jewishtoronto.com/calendar/cooking-up-lunch--with-tony-loschiavo-of-l
 -eat-catering-1612546026\n\nA Temple Sinai Program: Cooking up Lunch – w
 ith Tony Loschiavo of L-eat Catering Thursday\, February 11 at noon Get re
 ady to cook up something delicious for lunch on Zoom with Tony! After prep
 aring an amazing winter recipe of white bean\, potato and kale soup\, one 
 of Tony's favourites\, eat lunch with Temple Sinai members and discuss win
 ter comfort foods. An ingredient list will be provided prior to the progra
 m. For more information visit our website at www.templesinai.net\, call th
 e Temple Off...
DTSTART;TZID=America/Toronto:20210211T120000
DTEND;TZID=America/Toronto:20210211T130000
END:VEVENT
END:VCALENDAR
