BEGIN:VCALENDAR
PRODID:-//eluceo/ical//2.0/EN
VERSION:2.0
CALSCALE:GREGORIAN
BEGIN:VEVENT
UID:4fe3e2ee32ad256bf6205a465ce2367b
DTSTAMP:20260425T184734Z
SUMMARY:Cook & Shook
DESCRIPTION:UJA Federation of Greater Toronto\nJewish Toronto Calendar\nhtt
 ps://jewishtoronto.com/calendar/cook-shook-141160\n\nCook & Shook @ Beth 
 Tzedek Congregation - April 19
DTSTART;TZID=America/Toronto:20150419T121500
DTEND;TZID=America/Toronto:20150419T140000
END:VEVENT
END:VCALENDAR
