BEGIN:VCALENDAR
PRODID:-//eluceo/ical//2.0/EN
VERSION:2.0
CALSCALE:GREGORIAN
BEGIN:VEVENT
UID:f31043204ed1422c32c531a281996a6d
DTSTAMP:20260422T092921Z
SUMMARY:Conversations Over Coffee with Ya'ara Saks
DESCRIPTION:UJA Federation of Greater Toronto\nJewish Toronto Calendar\nhtt
 ps://jewishtoronto.com/calendar/conversations-over-coffee-with-yaara-saks-
 1612212932\n\nReb Steve will share coffee with Ya&#039\;ara Saks\, newly e
 lected MP for York Centre.\n\nThis week&#039\;s conversation will be broad
 cast live to the Beth Tzedec Facebook page and YouTube channel. Comment wi
 th your questions for Ya&#039\;ara on either platform!
DTSTART;TZID=America/Toronto:20210222T123000
DTEND;TZID=America/Toronto:20210222T131000
END:VEVENT
END:VCALENDAR
