BEGIN:VCALENDAR
PRODID:-//eluceo/ical//2.0/EN
VERSION:2.0
CALSCALE:GREGORIAN
BEGIN:VEVENT
UID:0dd002fd85a1a14e3e50c41708397ec9
DTSTAMP:20260425T142703Z
SUMMARY:Conversations Over Coffee with Reb Steve Wernick and Rabbi Lara Rod
 in
DESCRIPTION:UJA Federation of Greater Toronto\nJewish Toronto Calendar\nhtt
 ps://jewishtoronto.com/calendar/conversations-over-coffee-with-reb-steve-w
 ernick-and-rabbi-lara-rodin-1628720266\n\nRabbi Steven Wernick will share 
 coffee with Rabbi Lara Rodin\, Tanenbaum Fellow and studentat JTS with a s
 pecialty in Torah and the environment\, wilderness adventures. They will h
 ave a discussion about Torah Trail This week&#039\;s conversation will be 
 broadcast live to the Beth Tzedec Facebook page and YouTube channel. Comme
 nt with your questions for Rabbi Lara on either platform!
DTSTART;TZID=America/Toronto:20210823T123000
DTEND;TZID=America/Toronto:20210823T131000
END:VEVENT
END:VCALENDAR
