BEGIN:VCALENDAR
PRODID:-//eluceo/ical//2.0/EN
VERSION:2.0
CALSCALE:GREGORIAN
BEGIN:VEVENT
UID:b8e2bb3e53d7ee9c5a4103c6ef72d1b0
DTSTAMP:20260421T072838Z
SUMMARY:Conversations Over Coffee with Reb Steve: Tammy Glied
DESCRIPTION:UJA Federation of Greater Toronto\nJewish Toronto Calendar\nhtt
 ps://jewishtoronto.com/calendar/conversations-over-coffee-with-reb-steve-t
 ammy-glied-1620142747\n\nHolocaust Education and the Impact of COVID-19 on
  the March of the Living\n\nReb Steve will share coffee with Tammy Glied\,
  Chair of the Student March of the Living. They will have a discussion abo
 ut Holocaust Education and the impact of COVID-19 on the March of the Livi
 ng. This week&#039\;s conversation will be streamed live to the Beth Tzede
 c Facebook page and YouTube channel. Comment with your questions for Tammy
  on either platform!
DTSTART;TZID=America/Toronto:20210510T123000
DTEND;TZID=America/Toronto:20210510T131000
END:VEVENT
END:VCALENDAR
