BEGIN:VCALENDAR
PRODID:-//eluceo/ical//2.0/EN
VERSION:2.0
CALSCALE:GREGORIAN
BEGIN:VEVENT
UID:dd6c52d245cb54f29169e1d17e00188f
DTSTAMP:20260423T155701Z
SUMMARY:Conversations Over Coffee with Reb Steve: Annamie Paul
DESCRIPTION:UJA Federation of Greater Toronto\nJewish Toronto Calendar\nhtt
 ps://jewishtoronto.com/calendar/conversations-over-coffee-with-reb-steve-a
 nnamie-paul-1614048322\n\nRabbi Steven Wernick will share coffee with Anna
 mie Paul\, Leader of the Green Party of Canada. They will have a discussio
 n on her experiences as a Jewish person of colour and her leadership of th
 e Green Party.\n\nThe conversation will be streamed live the the Beth Tzed
 ec Facebook page and Youtube channel. Comment with questions for Annamie o
 n either platform.
DTSTART;TZID=America/Toronto:20210308T123000
DTEND;TZID=America/Toronto:20210308T131000
END:VEVENT
END:VCALENDAR
