BEGIN:VCALENDAR
PRODID:-//eluceo/ical//2.0/EN
VERSION:2.0
CALSCALE:GREGORIAN
BEGIN:VEVENT
UID:9bbd431fe63a660f10aec6d2f1c2b68d
DTSTAMP:20260424T045514Z
SUMMARY:Conversations Over Coffee with Reb Steve and Major Dan Feferman
DESCRIPTION:UJA Federation of Greater Toronto\nJewish Toronto Calendar\nhtt
 ps://jewishtoronto.com/calendar/conversations-over-coffee-with-reb-steve-a
 nd-major-dan-feferman-1621947845\n\nRabbi Steven Wernick will share coffee
  with Major Dan Feferman (res.)\, Fellow\, Jewish People Policy Institute 
 (JPPI)\, co-host of the Jewanced Podcast\, Founding member of UAE-Israel B
 usiness Council. They will have a discussion about Israel and the UAE. Thi
 s week&#039\;s conversation will be broadcast live to the Beth Tzedec Face
 book page and YouTube channel. Comment with your questions for Major Fefer
 man on either platform!
DTSTART;TZID=America/Toronto:20210607T123000
DTEND;TZID=America/Toronto:20210607T131000
END:VEVENT
END:VCALENDAR
