BEGIN:VCALENDAR
PRODID:-//eluceo/ical//2.0/EN
VERSION:2.0
CALSCALE:GREGORIAN
BEGIN:VEVENT
UID:a07be58967ff8226ffb68519a5697b22
DTSTAMP:20260421T154941Z
SUMMARY:Conversations Over Coffee with Reb Steve and guest Jennifer Glied-G
 oldstein
DESCRIPTION:UJA Federation of Greater Toronto\nJewish Toronto Calendar\nhtt
 ps://jewishtoronto.com/calendar/conversations-over-coffee-with-reb-steve-a
 nd-guest-jennifer-glied-goldstein-1666641689\n\nRabbi Steven Wernick gathe
 rs a cadre of community leaders for a series of conversations on politics\
 , culture\, social existence and Jewish life. Each session will be streame
 d over Zoom and broadcast to Facebook and YouTube. Grab a cup of coffee an
 d log on to join us.\n\nReb Steve will share coffee with Jennifer Glied-Go
 ldstein\, an associate in the Real Estate Department at Aird &amp\; Berlis
  and avid supporter of Israel. They will have a discussion about Judaism\,
  democracy and the upcoming...
DTSTART;TZID=America/Toronto:20221031T123000
DTEND;TZID=America/Toronto:20221031T131000
END:VEVENT
END:VCALENDAR
