BEGIN:VCALENDAR
PRODID:-//eluceo/ical//2.0/EN
VERSION:2.0
CALSCALE:GREGORIAN
BEGIN:VEVENT
UID:dd5ee8b69d7965cb06bfe609d28ebaa6
DTSTAMP:20260422T071233Z
SUMMARY:Conversations Over Coffee with Paul Hirsch\, Star Wars Editor
DESCRIPTION:UJA Federation of Greater Toronto\nJewish Toronto Calendar\nhtt
 ps://jewishtoronto.com/calendar/conversations-over-coffee-with-paul-hirsch
 -star-wars-editor-1593085476\n\nPaul Hirsch\, the Oscar-winning editor Sta
 r Wars\, joins Reb Steve for conversation about how he became involved in 
 the first Star Wars movie and the moral and cultural issues addressed with
 in the Star Wars universe. This week's conversation will be broadcast live
  to Beth Tzedec's Facebook page and YouTube channel. Comment with our ques
 tions for Paul on either platform.\n\nPaul Hirsch\, A.C.E. has edited over
  40 films\, among them the first "Star Wars" written and directed by Georg
 e Lucas\, for...
DTSTART;TZID=America/Toronto:20200629T123000
DTEND;TZID=America/Toronto:20200629T133000
END:VEVENT
END:VCALENDAR
