BEGIN:VCALENDAR
PRODID:-//eluceo/ical//2.0/EN
VERSION:2.0
CALSCALE:GREGORIAN
BEGIN:VEVENT
UID:6d3f3ff07a9e5d72bc01b6109162fd60
DTSTAMP:20260421T161818Z
SUMMARY:Conversations Over Coffee: Rabbi Jacob Blumenthal
DESCRIPTION:UJA Federation of Greater Toronto\nJewish Toronto Calendar\nhtt
 ps://jewishtoronto.com/calendar/conversations-over-coffee-rabbi-jacob-blum
 enthal-1604546452\n\nRabbi Jacob Blumenthal\, CEO of the Rabbinical Assemb
 ly and USCJ\, joins Rabbi Steven Wernick for an interesting conversation\,
  livestreamed to the Beth Tzedec Facebook page and YouTube channel. Commen
 t with your questions for Rabbi Blumenthal on either platform!
DTSTART;TZID=America/Toronto:20201130T123000
DTEND;TZID=America/Toronto:20201130T131000
END:VEVENT
END:VCALENDAR
