BEGIN:VCALENDAR
PRODID:-//eluceo/ical//2.0/EN
VERSION:2.0
CALSCALE:GREGORIAN
BEGIN:VEVENT
UID:4f5769a52830bdae3ce3734fb18e3461
DTSTAMP:20260424T162422Z
SUMMARY:Conversations Over Coffee: Professor Aurel Braun
DESCRIPTION:UJA Federation of Greater Toronto\nJewish Toronto Calendar\nhtt
 ps://jewishtoronto.com/calendar/conversations-over-coffee-professor-aurel-
 braun-1607557203\n\nRabbi Steve Wernick will share coffee with Prof. Aurel
  Braun\, Professor of International Relations and Political Science at the
  University of Toronto. They will have a discussion on The Rise of Russia:
  Election Meddling and the Outbreak of Peace in the Middle East.\n\nThis w
 eek&#039\;s conversation will be broadcast live to the Beth Tzedec Faceboo
 k page and YouTube channel.
DTSTART;TZID=America/Toronto:20201221T123000
DTEND;TZID=America/Toronto:20201221T131000
END:VEVENT
END:VCALENDAR
