BEGIN:VCALENDAR
PRODID:-//eluceo/ical//2.0/EN
VERSION:2.0
CALSCALE:GREGORIAN
BEGIN:VEVENT
UID:e8c5e8382440b116f765299cf99a3413
DTSTAMP:20260424T111239Z
SUMMARY:Conversations Over Coffee: Marco Mendicino\, MP
DESCRIPTION:UJA Federation of Greater Toronto\nJewish Toronto Calendar\nhtt
 ps://jewishtoronto.com/calendar/conversations-over-coffee-marco-mendicino-
 mp-1608599636\n\nRabbi Steve Wernick will share coffee with Minister Marco
  Mendicino\, Minister of Immigration\, Refugees\, and Citizenship and the 
 Eglinton-Lawrence MP. They will have a timely discussion on Canada&#039\;s
  approach to refugees and immigration. It will be broadcast live to the Be
 th Tzedec Facebook page and YouTube channel. Comment with your questions f
 or Minister Marco on either platform!
DTSTART;TZID=America/Toronto:20210111T123000
DTEND;TZID=America/Toronto:20210111T131000
END:VEVENT
END:VCALENDAR
