BEGIN:VCALENDAR
PRODID:-//eluceo/ical//2.0/EN
VERSION:2.0
CALSCALE:GREGORIAN
BEGIN:VEVENT
UID:1a827fc663cef47c232a014d24bc92c8
DTSTAMP:20260425T165121Z
SUMMARY:Conversations Over Coffee: Dr. Karen E.H. Skinazi
DESCRIPTION:UJA Federation of Greater Toronto\nJewish Toronto Calendar\nhtt
 ps://jewishtoronto.com/calendar/conversations-over-coffee-dr-karen-eh-skin
 azi-1604002962\n\nDr. Karen E. H. Skinazi\, director of Liberal Arts at th
 e University of Bristol\, is a senior lecturer and works on Jewish-Muslim 
 relations in the United Kingdom at both the local and national levels. She
  is also a mom dealing with COVID-19 in the U.K. Dr. Skinazi joins Rabbi S
 teven Wernick for coffee and a conversation on Beth Tzedec's Facebook page
  and Youtube channel. Comment with your questions for Dr. Skinazi on eithe
 r platform.
DTSTART;TZID=America/Toronto:20201102T123000
DTEND;TZID=America/Toronto:20201102T131000
END:VEVENT
END:VCALENDAR
