BEGIN:VCALENDAR
PRODID:-//eluceo/ical//2.0/EN
VERSION:2.0
CALSCALE:GREGORIAN
BEGIN:VEVENT
UID:dee3593662b07cad787875932c135d37
DTSTAMP:20260421T144432Z
SUMMARY:Conversations Over Coffee: Dr. Jill Andrew
DESCRIPTION:UJA Federation of Greater Toronto\nJewish Toronto Calendar\nhtt
 ps://jewishtoronto.com/calendar/conversations-over-coffee-dr-jill-andrew-1
 604545951\n\nDr. Jill Andrew\, MPP for Toronto-St. Paul&#039\;s\, joins Ra
 bbi Steven Wernick for a discussion on community issues in the neighbourho
 od\, streamed to Beth Tzedec&#039\;s Facebook page and Youtube channel. Co
 mment with questions for Dr. Andrew on either platform.
DTSTART;TZID=America/Toronto:20201123T123000
DTEND;TZID=America/Toronto:20201123T131000
END:VEVENT
END:VCALENDAR
