BEGIN:VCALENDAR
PRODID:-//eluceo/ical//2.0/EN
VERSION:2.0
CALSCALE:GREGORIAN
BEGIN:VEVENT
UID:7acde7ffc537620c1422d85cf8d042a4
DTSTAMP:20260422T030624Z
SUMMARY:Conversational Hebrew- Registration
DESCRIPTION:UJA Federation of Greater Toronto\nJewish Toronto Calendar\nhtt
 ps://jewishtoronto.com/calendar/conversational-hebrew--registration-157020
 2678\n\nConversational Hebrew\, Ulpan method\, made fun and easy.\nLearn m
 odern vocabulary\; discuss everyday and current events.\nAbility to read H
 ebrew with vowels is the pre requisite.\nClasses start the week of October
  29 with sufficient enrollment.\nBeginners: Tuesdays 7:30 p.m. -9:00 p.m.\
 nBeginners Plus: Tuesdays 1:15 p.m. - 2:45 p.m.\nIntermediate: Tuesdays 7:
 15 p.m. - 8:45 p.m.\n$250 for the 10 week semester.\nPlease call or email 
 to preregister
DTSTART;TZID=America/Toronto:20191008T000000
DTEND;TZID=America/Toronto:20191029T000000
END:VEVENT
END:VCALENDAR
