BEGIN:VCALENDAR
PRODID:-//eluceo/ical//2.0/EN
VERSION:2.0
CALSCALE:GREGORIAN
BEGIN:VEVENT
UID:ebafcf299da1bf6640c495a3619520b1
DTSTAMP:20260424T051222Z
SUMMARY:Conversation With Lynda Fishman
DESCRIPTION:UJA Federation of Greater Toronto\nJewish Toronto Calendar\nhtt
 ps://jewishtoronto.com/calendar/conversation-with-lynda-fishman\n\nJoin us
  for an inspiring and uplifting conversation with Lynda Fishman. Couvert -
  36.00
DTSTART;TZID=America/Toronto:20140305T110000
DTEND;TZID=America/Toronto:20140305T130000
END:VEVENT
END:VCALENDAR
