BEGIN:VCALENDAR
PRODID:-//eluceo/ical//2.0/EN
VERSION:2.0
CALSCALE:GREGORIAN
BEGIN:VEVENT
UID:c8ef7740515f605eab07399cb9fb7f40
DTSTAMP:20260420T101940Z
SUMMARY:Continuity\, Change and Contradictions: Israeli Politics and Societ
 y Today
DESCRIPTION:UJA Federation of Greater Toronto\nJewish Toronto Calendar\nhtt
 ps://jewishtoronto.com/calendar/continuity-change-and-contradictions-israe
 li-politics-and-society-today-1617132432\n\nProfessor Ben-Dor has been a f
 requent visiting lecturer at a number of universities in Western Europe\, 
 Africa\, Singapore\, Canada and the United States. He holds a doctorate in
  Political Science and Middle Eastern Studies from Princeton University in
  the United States. He lectured for over twenty years at the Royal College
  of Defense Studies in London\, England\, one of the leading institutions 
 for national security affairs in the world.
DTSTART;TZID=America/Toronto:20210505T123000
DTEND;TZID=America/Toronto:20210505T140000
END:VEVENT
END:VCALENDAR
