BEGIN:VCALENDAR
PRODID:-//eluceo/ical//2.0/EN
VERSION:2.0
CALSCALE:GREGORIAN
BEGIN:VEVENT
UID:9cb7494fd8e1683be707b282b68ea361
DTSTAMP:20260421T021831Z
SUMMARY:Continuing Education presents Brunch & Presentation
DESCRIPTION:UJA Federation of Greater Toronto\nJewish Toronto Calendar\nhtt
 ps://jewishtoronto.com/calendar/continuing-education-presents\n\nRegister 
 with Shul Office\n\nSignificant Jewish Events in our Lifetimes with Eli R
 ubinstein\, writer and storyteller.\n\nCall the office to purchase.
DTSTART;TZID=America/Toronto:20150215T113000
DTEND;TZID=America/Toronto:20150215T130000
END:VEVENT
END:VCALENDAR
